BEGIN:VCALENDAR
VERSION:2.0
PRODID:-//Mote Marine Laboratory &amp; Aquarium - ECPv6.15.20//NONSGML v1.0//EN
CALSCALE:GREGORIAN
METHOD:PUBLISH
X-WR-CALNAME:Mote Marine Laboratory &amp; Aquarium
X-ORIGINAL-URL:https://mote.org
X-WR-CALDESC:Events for Mote Marine Laboratory &amp; Aquarium
REFRESH-INTERVAL;VALUE=DURATION:PT1H
X-Robots-Tag:noindex
X-PUBLISHED-TTL:PT1H
BEGIN:VTIMEZONE
TZID:America/New_York
BEGIN:DAYLIGHT
TZOFFSETFROM:-0500
TZOFFSETTO:-0400
TZNAME:EDT
DTSTART:20250309T070000
END:DAYLIGHT
BEGIN:STANDARD
TZOFFSETFROM:-0400
TZOFFSETTO:-0500
TZNAME:EST
DTSTART:20251102T060000
END:STANDARD
BEGIN:DAYLIGHT
TZOFFSETFROM:-0500
TZOFFSETTO:-0400
TZNAME:EDT
DTSTART:20260308T070000
END:DAYLIGHT
BEGIN:STANDARD
TZOFFSETFROM:-0400
TZOFFSETTO:-0500
TZNAME:EST
DTSTART:20261101T060000
END:STANDARD
BEGIN:DAYLIGHT
TZOFFSETFROM:-0500
TZOFFSETTO:-0400
TZNAME:EDT
DTSTART:20270314T070000
END:DAYLIGHT
BEGIN:STANDARD
TZOFFSETFROM:-0400
TZOFFSETTO:-0500
TZNAME:EST
DTSTART:20271107T060000
END:STANDARD
END:VTIMEZONE
BEGIN:VEVENT
DTSTART;TZID=America/New_York:20260420T170000
DTEND;TZID=America/New_York:20260420T170000
DTSTAMP:20260420T072937
CREATED:20251110T154055Z
LAST-MODIFIED:20251205T173953Z
UID:10001206-1776704400-1776704400@mote.org
SUMMARY:Mote-ivational Science Lectures: Kim Bassos-Hull
DESCRIPTION:Mote’s popular lecture series offers the opportunity to listen to Mote scientists as they share their latest findings\, innovations and fieldwork — from coral reef research and marine animal health to red-tide breakthroughs\, sustainable fishers and so much more. \nKim Bassos-Hull is a Mote Senior Biologist\, Sharks & Rays Conservation Research Program. \nExploration Hall at Mote Science Education Aquarium (Mote SEA).\nPLEASE NOTE: Lecture registration does not include admission to Mote Science Education Aquarium (Mote SEA).
URL:https://mote.org/event/mote-ivational-mondays-kim-bassos-hull/
LOCATION:Mote Science Education Aquarium\, 225 University Town center Dr.\, Sarasota\, 34243\, United States
CATEGORIES:At the Aquarium
ATTACH;FMTTYPE=image/jpeg:https://mote.org/wp-content/uploads/2024/02/2023__MoteRayRelease4.jpeg
GEO:27.3809917;-82.4542251
X-APPLE-STRUCTURED-LOCATION;VALUE=URI;X-ADDRESS=Mote Science Education Aquarium 225 University Town center Dr. Sarasota 34243 United States;X-APPLE-RADIUS=500;X-TITLE=225 University Town center Dr.:geo:-82.4542251,27.3809917
END:VEVENT
END:VCALENDAR