BEGIN:VCALENDAR
VERSION:2.0
PRODID:-//Mote Marine Laboratory &amp; Aquarium - ECPv6.15.20//NONSGML v1.0//EN
CALSCALE:GREGORIAN
METHOD:PUBLISH
X-WR-CALNAME:Mote Marine Laboratory &amp; Aquarium
X-ORIGINAL-URL:https://mote.org
X-WR-CALDESC:Events for Mote Marine Laboratory &amp; Aquarium
REFRESH-INTERVAL;VALUE=DURATION:PT1H
X-Robots-Tag:noindex
X-PUBLISHED-TTL:PT1H
BEGIN:VTIMEZONE
TZID:America/New_York
BEGIN:DAYLIGHT
TZOFFSETFROM:-0500
TZOFFSETTO:-0400
TZNAME:EDT
DTSTART:20250309T070000
END:DAYLIGHT
BEGIN:STANDARD
TZOFFSETFROM:-0400
TZOFFSETTO:-0500
TZNAME:EST
DTSTART:20251102T060000
END:STANDARD
BEGIN:DAYLIGHT
TZOFFSETFROM:-0500
TZOFFSETTO:-0400
TZNAME:EDT
DTSTART:20260308T070000
END:DAYLIGHT
BEGIN:STANDARD
TZOFFSETFROM:-0400
TZOFFSETTO:-0500
TZNAME:EST
DTSTART:20261101T060000
END:STANDARD
BEGIN:DAYLIGHT
TZOFFSETFROM:-0500
TZOFFSETTO:-0400
TZNAME:EDT
DTSTART:20270314T070000
END:DAYLIGHT
BEGIN:STANDARD
TZOFFSETFROM:-0400
TZOFFSETTO:-0500
TZNAME:EST
DTSTART:20271107T060000
END:STANDARD
END:VTIMEZONE
BEGIN:VEVENT
DTSTART;TZID=America/New_York:20260731T073000
DTEND;TZID=America/New_York:20260731T083000
DTSTAMP:20260421T122733
CREATED:20260410T163131Z
LAST-MODIFIED:20260415T124824Z
UID:10001298-1785483000-1785486600@mote.org
SUMMARY:Mote SEA Morning Yoga
DESCRIPTION:SEArenity Flow\nStart your Friday with calm\, connection\, and a deeper appreciation for the ocean. Join Samskara Yoga for a gentle morning flow inside the inspiring setting of Mote SEA. \nThis all-levels yoga class blends mindful movement\, breathwork\, and relaxation while reflecting on our connection to the ocean and the living world it supports. As you move through the practice\, we’ll explore themes of balance\, resilience\, and stewardship—values that echo Mote’s mission of marine science education and ocean conservation. \nPerfect for beginners and experienced yogis alike\, this peaceful start to the day invites you to reset your mind and body before the Aquarium opens to the public. \nRegistration for Morning Yoga does not include admission to the Aquarium. \nFridays | 7:30–8:30 AM \nDates: 4/24\, 5/8\, 6/5\, 6/26\, 7/31\, 8/14\, 8/28 \nPrice: Members: $31.50\, Non-Member: $35.00 \nAll levels welcome (18+) \nClass minimum: 8; maximum 90 \nPlease Note\n\n(Optional) Bring a yoga mat\, water\, and any props (blocks\, straps\, bolster\, blanket).\nAquarium admission is not included with yoga registration. You do not need to purchase admission to attend this event.\nIf the class minimum is not met\, the class will be cancelled. You will be notified via email 48 hours prior to the event and given the option to reschedule or cancel your registration.\nAll Classes are held at: Mote Science Education Aquarium 225 University Town Center Drive\, Sarasota\, FL 34243\nPlease review our Policies before continuing.\n\nAbout the Instructor
URL:https://mote.org/event/mote-sea-morning-yoga/2026-07-31/
LOCATION:Mote Science Education Aquarium\, 225 University Town center Dr.\, Sarasota\, 34243\, United States
CATEGORIES:At the Aquarium
ATTACH;FMTTYPE=image/jpeg:https://mote.org/wp-content/uploads/2026/04/Yoga-at-Mote-1.jpg
GEO:27.3809917;-82.4542251
X-APPLE-STRUCTURED-LOCATION;VALUE=URI;X-ADDRESS=Mote Science Education Aquarium 225 University Town center Dr. Sarasota 34243 United States;X-APPLE-RADIUS=500;X-TITLE=225 University Town center Dr.:geo:-82.4542251,27.3809917
END:VEVENT
BEGIN:VEVENT
DTSTART;TZID=America/New_York:20260814T073000
DTEND;TZID=America/New_York:20260814T083000
DTSTAMP:20260421T122733
CREATED:20260410T163131Z
LAST-MODIFIED:20260415T124824Z
UID:10001299-1786692600-1786696200@mote.org
SUMMARY:Mote SEA Morning Yoga
DESCRIPTION:SEArenity Flow\nStart your Friday with calm\, connection\, and a deeper appreciation for the ocean. Join Samskara Yoga for a gentle morning flow inside the inspiring setting of Mote SEA. \nThis all-levels yoga class blends mindful movement\, breathwork\, and relaxation while reflecting on our connection to the ocean and the living world it supports. As you move through the practice\, we’ll explore themes of balance\, resilience\, and stewardship—values that echo Mote’s mission of marine science education and ocean conservation. \nPerfect for beginners and experienced yogis alike\, this peaceful start to the day invites you to reset your mind and body before the Aquarium opens to the public. \nRegistration for Morning Yoga does not include admission to the Aquarium. \nFridays | 7:30–8:30 AM \nDates: 4/24\, 5/8\, 6/5\, 6/26\, 7/31\, 8/14\, 8/28 \nPrice: Members: $31.50\, Non-Member: $35.00 \nAll levels welcome (18+) \nClass minimum: 8; maximum 90 \nPlease Note\n\n(Optional) Bring a yoga mat\, water\, and any props (blocks\, straps\, bolster\, blanket).\nAquarium admission is not included with yoga registration. You do not need to purchase admission to attend this event.\nIf the class minimum is not met\, the class will be cancelled. You will be notified via email 48 hours prior to the event and given the option to reschedule or cancel your registration.\nAll Classes are held at: Mote Science Education Aquarium 225 University Town Center Drive\, Sarasota\, FL 34243\nPlease review our Policies before continuing.\n\nAbout the Instructor
URL:https://mote.org/event/mote-sea-morning-yoga/2026-08-14/
LOCATION:Mote Science Education Aquarium\, 225 University Town center Dr.\, Sarasota\, 34243\, United States
CATEGORIES:At the Aquarium
ATTACH;FMTTYPE=image/jpeg:https://mote.org/wp-content/uploads/2026/04/Yoga-at-Mote-1.jpg
GEO:27.3809917;-82.4542251
X-APPLE-STRUCTURED-LOCATION;VALUE=URI;X-ADDRESS=Mote Science Education Aquarium 225 University Town center Dr. Sarasota 34243 United States;X-APPLE-RADIUS=500;X-TITLE=225 University Town center Dr.:geo:-82.4542251,27.3809917
END:VEVENT
BEGIN:VEVENT
DTSTART;TZID=America/New_York:20260821T080000
DTEND;TZID=America/New_York:20260821T090000
DTSTAMP:20260421T122733
CREATED:20260410T162949Z
LAST-MODIFIED:20260415T124902Z
UID:10001305-1787299200-1787302800@mote.org
SUMMARY:Mote SEA Morning Family Yoga
DESCRIPTION:Little Fins & Family Flow: Morning Family Yoga at Mote\nStart your day with movement\, connection\, and ocean-inspired fun! Join Samskara Yoga for a family-friendly yoga experience inside the inspiring setting of Mote SEA. \nThis all-levels class invites parents and children to move\, stretch\, and breathe together through playful poses\, simple mindfulness activities\, and moments of relaxation. Along the way\, we’ll explore our connection to the ocean and the amazing life it supports\, with themes of balance\, curiosity\, and care for our blue planet. \nPerfect for families of all experience levels\, this uplifting class offers a meaningful way to connect with each other while enjoying a calm and engaging start to your day before the Aquarium opens to the public. \nFridays | 8:00–9:00 AM \nDates: 5/15\, 6/19\, 7/10\, 8/21 \nPrice: $30/child – includes one adult; $30/additional child | Members: $27 \nAll levels/ages welcome \nClass minimum: 6; maximum 20 \nPlease Note\n\n(Optional) Bring a yoga mat\, water\, and any props (blocks\, straps\, bolster\, blanket).\nAquarium admission is not included with yoga registration. You do not need to purchase admission to attend this event.\nIf the class minimum is not met\, the class will be cancelled. You will be notified via email 48 hours prior to the event and given the option to reschedule or cancel your registration.\nAll Classes are held at: Mote Science Education Aquarium 225 University Town Center Drive\, Sarasota\, FL 34243\nPlease review our Policies before continuing.\n\nAbout the Instructor
URL:https://mote.org/event/mote-sea-morning-family-yoga/2026-08-21/
LOCATION:Mote Science Education Aquarium\, 225 University Town center Dr.\, Sarasota\, 34243\, United States
CATEGORIES:At the Aquarium
ATTACH;FMTTYPE=image/jpeg:https://mote.org/wp-content/uploads/2026/04/Family-Yoga-Image.jpg
GEO:27.3809917;-82.4542251
X-APPLE-STRUCTURED-LOCATION;VALUE=URI;X-ADDRESS=Mote Science Education Aquarium 225 University Town center Dr. Sarasota 34243 United States;X-APPLE-RADIUS=500;X-TITLE=225 University Town center Dr.:geo:-82.4542251,27.3809917
END:VEVENT
BEGIN:VEVENT
DTSTART;TZID=America/New_York:20260828T073000
DTEND;TZID=America/New_York:20260828T083000
DTSTAMP:20260421T122733
CREATED:20260410T163131Z
LAST-MODIFIED:20260415T124824Z
UID:10001300-1787902200-1787905800@mote.org
SUMMARY:Mote SEA Morning Yoga
DESCRIPTION:SEArenity Flow\nStart your Friday with calm\, connection\, and a deeper appreciation for the ocean. Join Samskara Yoga for a gentle morning flow inside the inspiring setting of Mote SEA. \nThis all-levels yoga class blends mindful movement\, breathwork\, and relaxation while reflecting on our connection to the ocean and the living world it supports. As you move through the practice\, we’ll explore themes of balance\, resilience\, and stewardship—values that echo Mote’s mission of marine science education and ocean conservation. \nPerfect for beginners and experienced yogis alike\, this peaceful start to the day invites you to reset your mind and body before the Aquarium opens to the public. \nRegistration for Morning Yoga does not include admission to the Aquarium. \nFridays | 7:30–8:30 AM \nDates: 4/24\, 5/8\, 6/5\, 6/26\, 7/31\, 8/14\, 8/28 \nPrice: Members: $31.50\, Non-Member: $35.00 \nAll levels welcome (18+) \nClass minimum: 8; maximum 90 \nPlease Note\n\n(Optional) Bring a yoga mat\, water\, and any props (blocks\, straps\, bolster\, blanket).\nAquarium admission is not included with yoga registration. You do not need to purchase admission to attend this event.\nIf the class minimum is not met\, the class will be cancelled. You will be notified via email 48 hours prior to the event and given the option to reschedule or cancel your registration.\nAll Classes are held at: Mote Science Education Aquarium 225 University Town Center Drive\, Sarasota\, FL 34243\nPlease review our Policies before continuing.\n\nAbout the Instructor
URL:https://mote.org/event/mote-sea-morning-yoga/2026-08-28/
LOCATION:Mote Science Education Aquarium\, 225 University Town center Dr.\, Sarasota\, 34243\, United States
CATEGORIES:At the Aquarium
ATTACH;FMTTYPE=image/jpeg:https://mote.org/wp-content/uploads/2026/04/Yoga-at-Mote-1.jpg
GEO:27.3809917;-82.4542251
X-APPLE-STRUCTURED-LOCATION;VALUE=URI;X-ADDRESS=Mote Science Education Aquarium 225 University Town center Dr. Sarasota 34243 United States;X-APPLE-RADIUS=500;X-TITLE=225 University Town center Dr.:geo:-82.4542251,27.3809917
END:VEVENT
END:VCALENDAR