BEGIN:VCALENDAR
VERSION:2.0
PRODID:-//Mote Marine Laboratory &amp; Aquarium - ECPv6.15.20//NONSGML v1.0//EN
CALSCALE:GREGORIAN
METHOD:PUBLISH
X-ORIGINAL-URL:https://mote.org
X-WR-CALDESC:Events for Mote Marine Laboratory &amp; Aquarium
REFRESH-INTERVAL;VALUE=DURATION:PT1H
X-Robots-Tag:noindex
X-PUBLISHED-TTL:PT1H
BEGIN:VTIMEZONE
TZID:America/New_York
BEGIN:DAYLIGHT
TZOFFSETFROM:-0500
TZOFFSETTO:-0400
TZNAME:EDT
DTSTART:20250309T070000
END:DAYLIGHT
BEGIN:STANDARD
TZOFFSETFROM:-0400
TZOFFSETTO:-0500
TZNAME:EST
DTSTART:20251102T060000
END:STANDARD
BEGIN:DAYLIGHT
TZOFFSETFROM:-0500
TZOFFSETTO:-0400
TZNAME:EDT
DTSTART:20260308T070000
END:DAYLIGHT
BEGIN:STANDARD
TZOFFSETFROM:-0400
TZOFFSETTO:-0500
TZNAME:EST
DTSTART:20261101T060000
END:STANDARD
BEGIN:DAYLIGHT
TZOFFSETFROM:-0500
TZOFFSETTO:-0400
TZNAME:EDT
DTSTART:20270314T070000
END:DAYLIGHT
BEGIN:STANDARD
TZOFFSETFROM:-0400
TZOFFSETTO:-0500
TZNAME:EST
DTSTART:20271107T060000
END:STANDARD
END:VTIMEZONE
BEGIN:VEVENT
DTSTART;TZID=America/New_York:20260502T090000
DTEND;TZID=America/New_York:20260502T103000
DTSTAMP:20260421T113558
CREATED:20260204T184510Z
LAST-MODIFIED:20260204T184510Z
UID:10001263-1777712400-1777717800@mote.org
SUMMARY:City Island Shark Pups & Grown Ups
DESCRIPTION:Shark Pups & Grownups is an early childhood STEM program for kids ages 2 through 5 and their favorite adult. Each class includes: movement\, sign language\, science tool exploration\, role play\, games and a take home craft! Each month features a new theme to engage your Shark Pup\, and each class is unique to allow families the opportunity to join us several times without repeating a class! Click on the REGISTER button below for more details and to sign up! \nWho: Preschool (2-5) aged kids and their favorite adult\nWhen: 9:30 to 10:30 a.m.\, select Saturdays\nWhere: Mote SEA Teaching Labs\nFee: $22.50 for members\, $25 for non-members per child (and one parent/guardian)
URL:https://mote.org/event/city-island-shark-pups-grown-ups/2026-05-02/
LOCATION:Mote Marine Laboratory on City Island\, 1600 Ken Thompson PKWY\, Sarasota\, FL\, 34236\, United States
CATEGORIES:At the Aquarium,Education
ATTACH;FMTTYPE=image/jpeg:https://mote.org/wp-content/uploads/2025/02/SharkPupsGrownUps_20181108_034_.jpg
GEO:27.3328676;-82.5823085
X-APPLE-STRUCTURED-LOCATION;VALUE=URI;X-ADDRESS=Mote Marine Laboratory on City Island 1600 Ken Thompson PKWY Sarasota FL 34236 United States;X-APPLE-RADIUS=500;X-TITLE=1600 Ken Thompson PKWY:geo:-82.5823085,27.3328676
END:VEVENT
BEGIN:VEVENT
DTSTART;TZID=America/New_York:20260502T153000
DTEND;TZID=America/New_York:20260502T163000
DTSTAMP:20260421T113558
CREATED:20251209T192806Z
LAST-MODIFIED:20260130T151623Z
UID:10001239-1777735800-1777739400@mote.org
SUMMARY:Axolotl Waddle WAVE
DESCRIPTION:Axolotl salamander\nWade into the watery world of axolotls and their amphibian friends during this Wonderful Animal Virtual Encounter. Get up close with our ambassador animals as we explore their fascinating life cycles and unique adaptations. Discover how these endangered species thrive in human care as vital partners in research and in ongoing efforts to restore their natural habitats. Bring your curiosity and questions for this live encounter\, part of Salamander Saturday and Suncoast Remake Learning Days. \n#RemakeLearningDays #SuncoastRemakeDays #RemakeDays #SalamanderSaturdays
URL:https://mote.org/event/salamander/
CATEGORIES:Virtual
ATTACH;FMTTYPE=image/jpeg:https://mote.org/wp-content/uploads/2025/12/VirtualEventsImageBuilderMARVEN-salamander.jpeg
ORGANIZER;CN="Jason Robertshaw":MAILTO:marven@mote.org
END:VEVENT
BEGIN:VEVENT
DTSTART;TZID=America/New_York:20260505T130000
DTEND;TZID=America/New_York:20260505T134500
DTSTAMP:20260421T113558
CREATED:20260408T160231Z
LAST-MODIFIED:20260408T160330Z
UID:10001293-1777986000-1777988700@mote.org
SUMMARY:Virtual Story Time: Swimming With Sharks
DESCRIPTION:SEA Me Read: Celebrating the Shark Lady’s 104th Birthday! \nDive into the extraordinary world of Dr. Eugenie Clark\, the pioneering marine biologist known as “The Shark Lady\,” in this special day-after birthday edition of SEA Me Read. Join us for a live virtual story time reading of Swimming With Sharks: The Daring Discoveries of Eugenie Clark by Heather Lang\, broadcast directly from the Florida Gulf Coast Observation Deck at Mote SEA — with real sharks swimming just below! \n\nFree virtual event online via Zoom. Registration required.\nRecommended for Grades K-6\, but all ages welcome.\nEducators: click here for a program guide. Companion bingo sheet available online or PDF.\n\nSpecial thanks to the Center for Interactive Learning and Collaboration\, Albert Whitman & Co. and Heather Lang for making this SEA Me Read possible.
URL:https://mote.org/event/virtual-story-time-swimming-with-sharks/
CATEGORIES:Education,Virtual
ATTACH;FMTTYPE=image/jpeg:https://mote.org/wp-content/uploads/2026/04/MARVEN_CILC_SwimmingWithSharks.jpg
ORGANIZER;CN="Jason Robertshaw":MAILTO:marven@mote.org
END:VEVENT
BEGIN:VEVENT
DTSTART;TZID=America/New_York:20260508T073000
DTEND;TZID=America/New_York:20260508T083000
DTSTAMP:20260421T113558
CREATED:20260410T163131Z
LAST-MODIFIED:20260415T124824Z
UID:10001308-1778225400-1778229000@mote.org
SUMMARY:Mote SEA Morning Yoga
DESCRIPTION:SEArenity Flow\nStart your Friday with calm\, connection\, and a deeper appreciation for the ocean. Join Samskara Yoga for a gentle morning flow inside the inspiring setting of Mote SEA. \nThis all-levels yoga class blends mindful movement\, breathwork\, and relaxation while reflecting on our connection to the ocean and the living world it supports. As you move through the practice\, we’ll explore themes of balance\, resilience\, and stewardship—values that echo Mote’s mission of marine science education and ocean conservation. \nPerfect for beginners and experienced yogis alike\, this peaceful start to the day invites you to reset your mind and body before the Aquarium opens to the public. \nRegistration for Morning Yoga does not include admission to the Aquarium. \nFridays | 7:30–8:30 AM \nDates: 4/24\, 5/8\, 6/5\, 6/26\, 7/31\, 8/14\, 8/28 \nPrice: Members: $31.50\, Non-Member: $35.00 \nAll levels welcome (18+) \nClass minimum: 8; maximum 90 \nPlease Note\n\n(Optional) Bring a yoga mat\, water\, and any props (blocks\, straps\, bolster\, blanket).\nAquarium admission is not included with yoga registration. You do not need to purchase admission to attend this event.\nIf the class minimum is not met\, the class will be cancelled. You will be notified via email 48 hours prior to the event and given the option to reschedule or cancel your registration.\nAll Classes are held at: Mote Science Education Aquarium 225 University Town Center Drive\, Sarasota\, FL 34243\nPlease review our Policies before continuing.\n\nAbout the Instructor
URL:https://mote.org/event/mote-sea-morning-yoga/2026-05-08/
LOCATION:Mote Science Education Aquarium\, 225 University Town center Dr.\, Sarasota\, 34243\, United States
CATEGORIES:At the Aquarium
ATTACH;FMTTYPE=image/jpeg:https://mote.org/wp-content/uploads/2026/04/Yoga-at-Mote-1.jpg
GEO:27.3809917;-82.4542251
X-APPLE-STRUCTURED-LOCATION;VALUE=URI;X-ADDRESS=Mote Science Education Aquarium 225 University Town center Dr. Sarasota 34243 United States;X-APPLE-RADIUS=500;X-TITLE=225 University Town center Dr.:geo:-82.4542251,27.3809917
END:VEVENT
BEGIN:VEVENT
DTSTART;TZID=America/New_York:20260508T090000
DTEND;TZID=America/New_York:20260508T120000
DTSTAMP:20260421T113558
CREATED:20251129T192835Z
LAST-MODIFIED:20251129T194035Z
UID:10001237-1778230800-1778241600@mote.org
SUMMARY:Keys Homeschool Meetups (Summerland Key)
DESCRIPTION:Can’t get enough of Mote Keys homeschool programs? Then join us for our Homeschool Meetups! In this program\, students can meet up with other homeschool families and a Mote educator for beach clean ups and mangrove kayaking trips from the laboratory. \n\nWhen: monthly from 9 – 11:00 a.m. (dates vary)\nAges: 8-15\nFee: $20 per child (includes required parent/guardian chaperone)\nNote: 1 chaperone per 2 students required (chaperones free)\n\nKayaking for Plankton: Microscopic Life of the Sea – February 20th 2026 & April 24th 2026 \nBeach Clean-Up & Citizen Science Survey – March 13th 2026 & May 8th 2026
URL:https://mote.org/event/keys-homeschool-meetups-summerland-key/2026-05-08/
LOCATION:Mote’s Elizabeth Moore International Center for Coral Reef Research & Restoration\, 24244 Overseas Highway\, Summerland Key\, FL\, 33042\, United States
CATEGORIES:Education,In the Keys
ATTACH;FMTTYPE=image/png:https://mote.org/wp-content/uploads/2025/11/TicketureImage_Events_RRF_v1.png
GEO:24.6616306;-81.4545056
X-APPLE-STRUCTURED-LOCATION;VALUE=URI;X-ADDRESS=Mote’s Elizabeth Moore International Center for Coral Reef Research & Restoration 24244 Overseas Highway Summerland Key FL 33042 United States;X-APPLE-RADIUS=500;X-TITLE=24244 Overseas Highway:geo:-81.4545056,24.6616306
END:VEVENT
BEGIN:VEVENT
DTSTART;VALUE=DATE:20260510
DTEND;VALUE=DATE:20260511
DTSTAMP:20260421T113558
CREATED:20260420T200655Z
LAST-MODIFIED:20260420T200851Z
UID:10001323-1778371200-1778457599@mote.org
SUMMARY:Mother's Day
DESCRIPTION:On Sunday\, May 10\, 2026\, moms receive FREE admission with the purchase of one full-price ticket! \nAt checkout\, use code: MOM26 \ngrab your tickets
URL:https://mote.org/event/mothers-day/
LOCATION:Mote Science Education Aquarium\, 225 University Town center Dr.\, Sarasota\, 34243\, United States
CATEGORIES:At the Aquarium
ATTACH;FMTTYPE=image/jpeg:https://mote.org/wp-content/uploads/2026/04/2025-5-10_MothersDayMemberEvent_byHayleyRutgerMoteMarineLaboratory___24A9718-scaled.jpg
GEO:27.3809917;-82.4542251
X-APPLE-STRUCTURED-LOCATION;VALUE=URI;X-ADDRESS=Mote Science Education Aquarium 225 University Town center Dr. Sarasota 34243 United States;X-APPLE-RADIUS=500;X-TITLE=225 University Town center Dr.:geo:-82.4542251,27.3809917
END:VEVENT
BEGIN:VEVENT
DTSTART;TZID=America/New_York:20260513T090000
DTEND;TZID=America/New_York:20260513T120000
DTSTAMP:20260421T113558
CREATED:20251129T190956Z
LAST-MODIFIED:20251129T192332Z
UID:10001233-1778662800-1778673600@mote.org
SUMMARY:Homeschool Days at IC2R3 (Summerland Key) - ages 12 - 15
DESCRIPTION:When: monthly from 9:00 a.m. – 12:00 p.m.\nAges 12 – 15: Feb 4th\, March 4th\, April 15th\, May 13th\nFee: $30 per child per class (includes required parent/guardian chaperone)\nNote: 1 chaperone per 2 students required (chaperones free)
URL:https://mote.org/event/homeschool-days-at-ic2r3-summerland-key-ages-12-15/2026-05-13/
LOCATION:Mote’s Elizabeth Moore International Center for Coral Reef Research & Restoration\, 24244 Overseas Highway\, Summerland Key\, FL\, 33042\, United States
CATEGORIES:Education,In the Keys
ATTACH;FMTTYPE=image/png:https://mote.org/wp-content/uploads/2025/11/TicketureImage_KeysEvents_SliceOfParadiseIslamorada_V1-2.png
GEO:24.6616306;-81.4545056
X-APPLE-STRUCTURED-LOCATION;VALUE=URI;X-ADDRESS=Mote’s Elizabeth Moore International Center for Coral Reef Research & Restoration 24244 Overseas Highway Summerland Key FL 33042 United States;X-APPLE-RADIUS=500;X-TITLE=24244 Overseas Highway:geo:-81.4545056,24.6616306
END:VEVENT
BEGIN:VEVENT
DTSTART;TZID=America/New_York:20260514T090000
DTEND;TZID=America/New_York:20260514T120000
DTSTAMP:20260421T113558
CREATED:20251129T190608Z
LAST-MODIFIED:20251129T192206Z
UID:10001229-1778749200-1778760000@mote.org
SUMMARY:Homeschool Days at IC2R3 (Summerland Key) - ages 8 - 11
DESCRIPTION:When: monthly from 9:00 a.m. – 12:00 p.m.\nAges 8 – 11: Jan 8th\, Feb 5th\, March 5th\, April 16th\, May 14th\nFee: $30 per child per class (includes required parent/guardian chaperone)\nNote: 1 chaperone per 2 students required (chaperones free)
URL:https://mote.org/event/homeschool-days-at-ic2r3-summerland-key-ages-8-11/2026-05-14/
LOCATION:Mote’s Elizabeth Moore International Center for Coral Reef Research & Restoration\, 24244 Overseas Highway\, Summerland Key\, FL\, 33042\, United States
CATEGORIES:Education,In the Keys
ATTACH;FMTTYPE=image/png:https://mote.org/wp-content/uploads/2025/11/TicketureImage_KeysEvents_SliceOfParadiseIslamorada_V1-2.png
GEO:24.6616306;-81.4545056
X-APPLE-STRUCTURED-LOCATION;VALUE=URI;X-ADDRESS=Mote’s Elizabeth Moore International Center for Coral Reef Research & Restoration 24244 Overseas Highway Summerland Key FL 33042 United States;X-APPLE-RADIUS=500;X-TITLE=24244 Overseas Highway:geo:-81.4545056,24.6616306
END:VEVENT
BEGIN:VEVENT
DTSTART;TZID=America/New_York:20260515T080000
DTEND;TZID=America/New_York:20260515T090000
DTSTAMP:20260421T113558
CREATED:20260410T162949Z
LAST-MODIFIED:20260415T124902Z
UID:10001302-1778832000-1778835600@mote.org
SUMMARY:Mote SEA Morning Family Yoga
DESCRIPTION:Little Fins & Family Flow: Morning Family Yoga at Mote\nStart your day with movement\, connection\, and ocean-inspired fun! Join Samskara Yoga for a family-friendly yoga experience inside the inspiring setting of Mote SEA. \nThis all-levels class invites parents and children to move\, stretch\, and breathe together through playful poses\, simple mindfulness activities\, and moments of relaxation. Along the way\, we’ll explore our connection to the ocean and the amazing life it supports\, with themes of balance\, curiosity\, and care for our blue planet. \nPerfect for families of all experience levels\, this uplifting class offers a meaningful way to connect with each other while enjoying a calm and engaging start to your day before the Aquarium opens to the public. \nFridays | 8:00–9:00 AM \nDates: 5/15\, 6/19\, 7/10\, 8/21 \nPrice: $30/child – includes one adult; $30/additional child | Members: $27 \nAll levels/ages welcome \nClass minimum: 6; maximum 20 \nPlease Note\n\n(Optional) Bring a yoga mat\, water\, and any props (blocks\, straps\, bolster\, blanket).\nAquarium admission is not included with yoga registration. You do not need to purchase admission to attend this event.\nIf the class minimum is not met\, the class will be cancelled. You will be notified via email 48 hours prior to the event and given the option to reschedule or cancel your registration.\nAll Classes are held at: Mote Science Education Aquarium 225 University Town Center Drive\, Sarasota\, FL 34243\nPlease review our Policies before continuing.\n\nAbout the Instructor
URL:https://mote.org/event/mote-sea-morning-family-yoga/2026-05-15/
LOCATION:Mote Science Education Aquarium\, 225 University Town center Dr.\, Sarasota\, 34243\, United States
CATEGORIES:At the Aquarium
ATTACH;FMTTYPE=image/jpeg:https://mote.org/wp-content/uploads/2026/04/Family-Yoga-Image.jpg
GEO:27.3809917;-82.4542251
X-APPLE-STRUCTURED-LOCATION;VALUE=URI;X-ADDRESS=Mote Science Education Aquarium 225 University Town center Dr. Sarasota 34243 United States;X-APPLE-RADIUS=500;X-TITLE=225 University Town center Dr.:geo:-82.4542251,27.3809917
END:VEVENT
BEGIN:VEVENT
DTSTART;TZID=America/New_York:20260516T090000
DTEND;TZID=America/New_York:20260516T103000
DTSTAMP:20260421T113558
CREATED:20260204T184510Z
LAST-MODIFIED:20260204T184510Z
UID:10001264-1778922000-1778927400@mote.org
SUMMARY:City Island Shark Pups & Grown Ups
DESCRIPTION:Shark Pups & Grownups is an early childhood STEM program for kids ages 2 through 5 and their favorite adult. Each class includes: movement\, sign language\, science tool exploration\, role play\, games and a take home craft! Each month features a new theme to engage your Shark Pup\, and each class is unique to allow families the opportunity to join us several times without repeating a class! Click on the REGISTER button below for more details and to sign up! \nWho: Preschool (2-5) aged kids and their favorite adult\nWhen: 9:30 to 10:30 a.m.\, select Saturdays\nWhere: Mote SEA Teaching Labs\nFee: $22.50 for members\, $25 for non-members per child (and one parent/guardian)
URL:https://mote.org/event/city-island-shark-pups-grown-ups/2026-05-16/
LOCATION:Mote Marine Laboratory on City Island\, 1600 Ken Thompson PKWY\, Sarasota\, FL\, 34236\, United States
CATEGORIES:At the Aquarium,Education
ATTACH;FMTTYPE=image/jpeg:https://mote.org/wp-content/uploads/2025/02/SharkPupsGrownUps_20181108_034_.jpg
GEO:27.3328676;-82.5823085
X-APPLE-STRUCTURED-LOCATION;VALUE=URI;X-ADDRESS=Mote Marine Laboratory on City Island 1600 Ken Thompson PKWY Sarasota FL 34236 United States;X-APPLE-RADIUS=500;X-TITLE=1600 Ken Thompson PKWY:geo:-82.5823085,27.3328676
END:VEVENT
END:VCALENDAR